BEGIN:VCALENDAR
VERSION:2.0
PRODID:-//All Saints Church - ECPv6.15.20//NONSGML v1.0//EN
CALSCALE:GREGORIAN
METHOD:PUBLISH
X-WR-CALNAME:All Saints Church
X-ORIGINAL-URL:https://allsaintskingston.co.uk
X-WR-CALDESC:Events for All Saints Church
REFRESH-INTERVAL;VALUE=DURATION:PT1H
X-Robots-Tag:noindex
X-PUBLISHED-TTL:PT1H
BEGIN:VTIMEZONE
TZID:Europe/London
BEGIN:DAYLIGHT
TZOFFSETFROM:+0000
TZOFFSETTO:+0100
TZNAME:BST
DTSTART:20250330T010000
END:DAYLIGHT
BEGIN:STANDARD
TZOFFSETFROM:+0100
TZOFFSETTO:+0000
TZNAME:GMT
DTSTART:20251026T010000
END:STANDARD
BEGIN:DAYLIGHT
TZOFFSETFROM:+0000
TZOFFSETTO:+0100
TZNAME:BST
DTSTART:20260329T010000
END:DAYLIGHT
BEGIN:STANDARD
TZOFFSETFROM:+0100
TZOFFSETTO:+0000
TZNAME:GMT
DTSTART:20261025T010000
END:STANDARD
BEGIN:DAYLIGHT
TZOFFSETFROM:+0000
TZOFFSETTO:+0100
TZNAME:BST
DTSTART:20270328T010000
END:DAYLIGHT
BEGIN:STANDARD
TZOFFSETFROM:+0100
TZOFFSETTO:+0000
TZNAME:GMT
DTSTART:20271031T010000
END:STANDARD
END:VTIMEZONE
BEGIN:VEVENT
DTSTART;TZID=Europe/London:20260428T171500
DTEND;TZID=Europe/London:20260428T181500
DTSTAMP:20260420T212709
CREATED:20260413T185516Z
LAST-MODIFIED:20260416T203014Z
UID:10003587-1777396500-1777400100@allsaintskingston.co.uk
SUMMARY:Poetry Sessions
DESCRIPTION:Poetry sessions 5.15-6.15pm in the Choir Vestry\nOpen to anyone interested in reading and discussing the work of an established poet.\nHeld in the Choir Vestry (also known as the Heritage Gallery).\nEach session we will read a poem written by an established poet and share any reactions and memories the words might suggest.  It is open to everyone: those wanting to discover\, and those wanting to renew\, the sustaining power of poetry\nEach month the theme will reflect our journey through the year. .\n2026 Sessions:\n24th February\n31st March\n28th April\n19th May\n23rd June
URL:https://allsaintskingston.co.uk/event/poetry-sessions-3
LOCATION:Choir Vestry
END:VEVENT
BEGIN:VEVENT
DTSTART;TZID=Europe/London:20260519T171500
DTEND;TZID=Europe/London:20260519T181500
DTSTAMP:20260420T212709
CREATED:20260413T185524Z
LAST-MODIFIED:20260416T203020Z
UID:10003588-1779210900-1779214500@allsaintskingston.co.uk
SUMMARY:Poetry Sessions
DESCRIPTION:Poetry sessions 5.15-6.15pm in the Choir Vestry\nOpen to anyone interested in reading and discussing the work of an established poet.\nHeld in the Choir Vestry (also known as the Heritage Gallery).\nEach session we will read a poem written by an established poet and share any reactions and memories the words might suggest.  It is open to everyone: those wanting to discover\, and those wanting to renew\, the sustaining power of poetry\nEach month the theme will reflect our journey through the year. .\n2026 Sessions:\n24th February\n31st March\n28th April\n19th May\n23rd June
URL:https://allsaintskingston.co.uk/event/poetry-sessions-4
LOCATION:Choir Vestry
END:VEVENT
BEGIN:VEVENT
DTSTART;TZID=Europe/London:20260623T171500
DTEND;TZID=Europe/London:20260623T181500
DTSTAMP:20260420T212709
CREATED:20260413T190019Z
LAST-MODIFIED:20260416T203507Z
UID:10003590-1782234900-1782238500@allsaintskingston.co.uk
SUMMARY:Poetry Sessions
DESCRIPTION:Poetry sessions 5.15-6.15pm in the Choir Vestry\nOpen to anyone interested in reading and discussing the work of an established poet.\nHeld in the Choir Vestry (also known as the Heritage Gallery).\nEach session we will read a poem written by an established poet and share any reactions and memories the words might suggest.  It is open to everyone: those wanting to discover\, and those wanting to renew\, the sustaining power of poetry\nEach month the theme will reflect our journey through the year. .\n2026 Sessions:\n24th February\n31st March\n28th April\n19th May\n23rd June
URL:https://allsaintskingston.co.uk/event/poetry-sessions-5
LOCATION:Choir Vestry
END:VEVENT
END:VCALENDAR