BEGIN:VCALENDAR
VERSION:2.0
PRODID:-//All Saints Church - ECPv6.15.20//NONSGML v1.0//EN
CALSCALE:GREGORIAN
METHOD:PUBLISH
X-ORIGINAL-URL:https://allsaintskingston.co.uk
X-WR-CALDESC:Events for All Saints Church
REFRESH-INTERVAL;VALUE=DURATION:PT1H
X-Robots-Tag:noindex
X-PUBLISHED-TTL:PT1H
BEGIN:VTIMEZONE
TZID:Europe/London
BEGIN:DAYLIGHT
TZOFFSETFROM:+0000
TZOFFSETTO:+0100
TZNAME:BST
DTSTART:20250330T010000
END:DAYLIGHT
BEGIN:STANDARD
TZOFFSETFROM:+0100
TZOFFSETTO:+0000
TZNAME:GMT
DTSTART:20251026T010000
END:STANDARD
BEGIN:DAYLIGHT
TZOFFSETFROM:+0000
TZOFFSETTO:+0100
TZNAME:BST
DTSTART:20260329T010000
END:DAYLIGHT
BEGIN:STANDARD
TZOFFSETFROM:+0100
TZOFFSETTO:+0000
TZNAME:GMT
DTSTART:20261025T010000
END:STANDARD
BEGIN:DAYLIGHT
TZOFFSETFROM:+0000
TZOFFSETTO:+0100
TZNAME:BST
DTSTART:20270328T010000
END:DAYLIGHT
BEGIN:STANDARD
TZOFFSETFROM:+0100
TZOFFSETTO:+0000
TZNAME:GMT
DTSTART:20271031T010000
END:STANDARD
END:VTIMEZONE
BEGIN:VEVENT
DTSTART;TZID=Europe/London:20260426T120000
DTEND;TZID=Europe/London:20260426T130000
DTSTAMP:20260420T205104
CREATED:20260413T185516Z
LAST-MODIFIED:20260416T203014Z
UID:10003586-1777204800-1777208400@allsaintskingston.co.uk
SUMMARY:Book Club
DESCRIPTION:Our next Book club is 12pm (midday) on 26th April following the APCM.  We will be discussing ‘The Tenant of Wildfell Hall’ by Anne Bronte.\nThe next meeting will be 31 May at 12\,00 when we will be discussing ‘Phoebe’ by Paula Gooder.
URL:https://allsaintskingston.co.uk/event/book-club
LOCATION:Cafe Area
END:VEVENT
BEGIN:VEVENT
DTSTART;TZID=Europe/London:20260531T120000
DTEND;TZID=Europe/London:20260531T130000
DTSTAMP:20260420T205104
CREATED:20260413T185527Z
LAST-MODIFIED:20260416T203022Z
UID:10003589-1780228800-1780232400@allsaintskingston.co.uk
SUMMARY:Book Club
DESCRIPTION:Our next Book club is 12pm (midday) on 31st May.  We will be discussing ‘Phoebe’ by Paula Gooder.
URL:https://allsaintskingston.co.uk/event/book-club-2
LOCATION:Cafe Area
END:VEVENT
END:VCALENDAR