BEGIN:VCALENDAR
VERSION:2.0
PRODID:-//All Saints Church - ECPv6.15.20//NONSGML v1.0//EN
CALSCALE:GREGORIAN
METHOD:PUBLISH
X-WR-CALNAME:All Saints Church
X-ORIGINAL-URL:https://allsaintskingston.co.uk
X-WR-CALDESC:Events for All Saints Church
REFRESH-INTERVAL;VALUE=DURATION:PT1H
X-Robots-Tag:noindex
X-PUBLISHED-TTL:PT1H
BEGIN:VTIMEZONE
TZID:Europe/London
BEGIN:DAYLIGHT
TZOFFSETFROM:+0000
TZOFFSETTO:+0100
TZNAME:BST
DTSTART:20250330T010000
END:DAYLIGHT
BEGIN:STANDARD
TZOFFSETFROM:+0100
TZOFFSETTO:+0000
TZNAME:GMT
DTSTART:20251026T010000
END:STANDARD
BEGIN:DAYLIGHT
TZOFFSETFROM:+0000
TZOFFSETTO:+0100
TZNAME:BST
DTSTART:20260329T010000
END:DAYLIGHT
BEGIN:STANDARD
TZOFFSETFROM:+0100
TZOFFSETTO:+0000
TZNAME:GMT
DTSTART:20261025T010000
END:STANDARD
BEGIN:DAYLIGHT
TZOFFSETFROM:+0000
TZOFFSETTO:+0100
TZNAME:BST
DTSTART:20270328T010000
END:DAYLIGHT
BEGIN:STANDARD
TZOFFSETFROM:+0100
TZOFFSETTO:+0000
TZNAME:GMT
DTSTART:20271031T010000
END:STANDARD
END:VTIMEZONE
BEGIN:VEVENT
DTSTART;TZID=Europe/London:20260426T080000
DTEND;TZID=Europe/London:20260426T083000
DTSTAMP:20260423T153120
CREATED:20250426T200338Z
LAST-MODIFIED:20260416T203013Z
UID:10001801-1777190400-1777192200@allsaintskingston.co.uk
SUMMARY:Holy Communion
DESCRIPTION:SERVICE\nHoly Communion Said service in the Holy Trinity Chapel according to the Book of Common Prayer
URL:https://allsaintskingston.co.uk/event/holy-communion-298
LOCATION:Nave
CATEGORIES:SERVICE
END:VEVENT
BEGIN:VEVENT
DTSTART;TZID=Europe/London:20260426T093000
DTEND;TZID=Europe/London:20260426T103000
DTSTAMP:20260423T153120
CREATED:20250426T200339Z
LAST-MODIFIED:20260416T203014Z
UID:10001802-1777195800-1777199400@allsaintskingston.co.uk
SUMMARY:Choral Eucharist
DESCRIPTION:SERVICE\nJoin us for our Choral Eucharist service\, sometimes also known as Holy Communion\, Mass or The Lord’s Supper.\nThe service contains Bible readings and prayers and the sharing of consecrated bread and wine\, featuring the Choir of All Saints Kingston\, one of the best parish choirs in London performing Cathedral quality music.\nWe hold regular Choral Eucharist services on Sundays at 9.30am and 6pm and on Wednesdays at 5.30pm (during school holidays\, the Wednesday service reverts to a Said Evening Prayer).\nOnce a month\, during term time\, we hold an All Age Service which is designed to be particularly inclusive to our younger members which features our Junior Choir.  On these days\, we have an additional choral matins service at 11am\, please see our website calendar for dates.\nTo download the Pew sheet or the choir music list\, please visit the latest news area of our website by clicking this link Latest news – All Saints Church\nWatch on You Tube All Saints Kingston : Services – YouTube
URL:https://allsaintskingston.co.uk/event/choral-eucharist-143
LOCATION:Church
CATEGORIES:SERVICE
END:VEVENT
BEGIN:VEVENT
DTSTART;TZID=Europe/London:20260426T180000
DTEND;TZID=Europe/London:20260426T190000
DTSTAMP:20260423T153120
CREATED:20250426T200339Z
LAST-MODIFIED:20260416T203014Z
UID:10001803-1777226400-1777230000@allsaintskingston.co.uk
SUMMARY:Confirmation Service Choral Evensong
DESCRIPTION:SERVICE\nJoin us for our Choral Evensong service featuring one of the best parish choirs in London performing Cathedral quality music.  Sundays 6.00-7pm\nWatch on You Tube All Saints Kingston : Services – YouTube
URL:https://allsaintskingston.co.uk/event/choral-evensong-90
LOCATION:Church
CATEGORIES:SERVICE
END:VEVENT
BEGIN:VEVENT
DTSTART;TZID=Europe/London:20260428T120000
DTEND;TZID=Europe/London:20260428T123000
DTSTAMP:20260423T153120
CREATED:20250619T082711Z
LAST-MODIFIED:20260120T132627Z
UID:10002476-1777377600-1777379400@allsaintskingston.co.uk
SUMMARY:Tue Holy Communion
DESCRIPTION:SERVICE\nJoin us for this intimate weekly midday service of Holy Communion
URL:https://allsaintskingston.co.uk/event/tue-holy-communion-24/2026-04-28
CATEGORIES:SERVICE
END:VEVENT
BEGIN:VEVENT
DTSTART;TZID=Europe/London:20260429T120000
DTEND;TZID=Europe/London:20260429T123000
DTSTAMP:20260423T153120
CREATED:20250428T233318Z
LAST-MODIFIED:20260416T203015Z
UID:10001805-1777464000-1777465800@allsaintskingston.co.uk
SUMMARY:Wed Holy Communion
DESCRIPTION:SERVICE\nJoin us for this intimate weekly service of Holy Communion
URL:https://allsaintskingston.co.uk/event/wed-holy-communion-10
LOCATION:All Saints Church\, Kingston
CATEGORIES:SERVICE
END:VEVENT
BEGIN:VEVENT
DTSTART;TZID=Europe/London:20260429T173000
DTEND;TZID=Europe/London:20260429T181500
DTSTAMP:20260423T153120
CREATED:20250428T233318Z
LAST-MODIFIED:20260416T203015Z
UID:10001806-1777483800-1777486500@allsaintskingston.co.uk
SUMMARY:Wed Choral Evensong
DESCRIPTION:SERVICE\nOur Choral Evensong service* features one of the best parish choirs in London performing Cathedral quality music.  Term time\, Wednesdays 5.30-6.15pm\n** *During school holidays\, our usual Midweek Choral Evensong reverts to Said Evening Prayer and takes place in the Holy Trinity Chapel.\nTo Download the pew sheet or the choirs music list\, please visit our “Latest News” page Latest news – All Saints Church
URL:https://allsaintskingston.co.uk/event/wed-choral-evensong-7
LOCATION:All Saints Church\, Kingston
CATEGORIES:SERVICE
END:VEVENT
BEGIN:VEVENT
DTSTART;TZID=Europe/London:20260430T120000
DTEND;TZID=Europe/London:20260430T123000
DTSTAMP:20260423T153120
CREATED:20250501T184339Z
LAST-MODIFIED:20260416T203015Z
UID:10001808-1777550400-1777552200@allsaintskingston.co.uk
SUMMARY:Thur Holy Communion
DESCRIPTION:SERVICE\nAll are welcome join us for this short and intimate weekly service of Holy Communion
URL:https://allsaintskingston.co.uk/event/thur-holy-communion-10
LOCATION:All Saints Church\, Kingston
CATEGORIES:SERVICE
END:VEVENT
BEGIN:VEVENT
DTSTART;TZID=Europe/London:20260503T080000
DTEND;TZID=Europe/London:20260503T083000
DTSTAMP:20260423T153120
CREATED:20250503T233331Z
LAST-MODIFIED:20260416T203015Z
UID:10001809-1777795200-1777797000@allsaintskingston.co.uk
SUMMARY:Holy Communion
DESCRIPTION:SERVICE\nHoly Communion Said service in the Holy Trinity Chapel according to the Book of Common Prayer
URL:https://allsaintskingston.co.uk/event/holy-communion-299
LOCATION:Nave
CATEGORIES:SERVICE
END:VEVENT
BEGIN:VEVENT
DTSTART;TZID=Europe/London:20260503T093000
DTEND;TZID=Europe/London:20260503T103000
DTSTAMP:20260423T153120
CREATED:20250503T233332Z
LAST-MODIFIED:20260416T203015Z
UID:10001810-1777800600-1777804200@allsaintskingston.co.uk
SUMMARY:Choral Eucharist
DESCRIPTION:SERVICE\nJoin us for our Choral Eucharist service\, sometimes also known as Holy Communion\, Mass or The Lord’s Supper.\nThe service contains Bible readings and prayers and the sharing of consecrated bread and wine\, featuring the Choir of All Saints Kingston\, one of the best parish choirs in London performing Cathedral quality music.\nWe hold regular Choral Eucharist services on Sundays at 9.30am and 6pm and on Wednesdays at 5.30pm (during school holidays\, the Wednesday service reverts to a Said Evening Prayer).\nOnce a month\, during term time\, we hold an All Age Service which is designed to be particularly inclusive to our younger members which features our Junior Choir.  On these days\, we have an additional choral matins service at 11am\, please see our website calendar for dates.\nTo download the Pew sheet or the choir music list\, please visit the latest news area of our website by clicking this link Latest news – All Saints Church\nWatch on You Tube All Saints Kingston : Services – YouTube
URL:https://allsaintskingston.co.uk/event/choral-eucharist-144
LOCATION:Church
CATEGORIES:SERVICE
END:VEVENT
BEGIN:VEVENT
DTSTART;TZID=Europe/London:20260503T180000
DTEND;TZID=Europe/London:20260503T190000
DTSTAMP:20260423T153120
CREATED:20250503T233332Z
LAST-MODIFIED:20260416T203015Z
UID:10001811-1777831200-1777834800@allsaintskingston.co.uk
SUMMARY:Choral Evensong
DESCRIPTION:SERVICE\nJoin us for our Choral Evensong service featuring the Choir of All Saints Kingston\, one of the best parish choirs in London performing Cathedral quality music.  Sundays 6.00-7pm\nWatch on You Tube All Saints Kingston : Services – YouTube
URL:https://allsaintskingston.co.uk/event/choral-evensong-91
LOCATION:Church
CATEGORIES:SERVICE
END:VEVENT
BEGIN:VEVENT
DTSTART;TZID=Europe/London:20260505T120000
DTEND;TZID=Europe/London:20260505T123000
DTSTAMP:20260423T153120
CREATED:20250619T082711Z
LAST-MODIFIED:20260120T132627Z
UID:10002477-1777982400-1777984200@allsaintskingston.co.uk
SUMMARY:Tue Holy Communion
DESCRIPTION:SERVICE\nJoin us for this intimate weekly midday service of Holy Communion
URL:https://allsaintskingston.co.uk/event/tue-holy-communion-24/2026-05-05
CATEGORIES:SERVICE
END:VEVENT
BEGIN:VEVENT
DTSTART;TZID=Europe/London:20260506T120000
DTEND;TZID=Europe/London:20260506T123000
DTSTAMP:20260423T153120
CREATED:20250506T203316Z
LAST-MODIFIED:20260416T203016Z
UID:10001813-1778068800-1778070600@allsaintskingston.co.uk
SUMMARY:Wed Holy Communion
DESCRIPTION:SERVICE\nJoin us for this intimate weekly service of Holy Communion
URL:https://allsaintskingston.co.uk/event/wed-holy-communion-11
LOCATION:All Saints Church\, Kingston
CATEGORIES:SERVICE
END:VEVENT
BEGIN:VEVENT
DTSTART;TZID=Europe/London:20260506T173000
DTEND;TZID=Europe/London:20260506T181500
DTSTAMP:20260423T153120
CREATED:20250506T203317Z
LAST-MODIFIED:20260416T203016Z
UID:10001814-1778088600-1778091300@allsaintskingston.co.uk
SUMMARY:Wed Choral Evensong
DESCRIPTION:SERVICE\nOur Choral Evensong service* features one of the best parish choirs in London performing Cathedral quality music.  Term time\, Wednesdays 5.30-6.15pm\n** *During school holidays\, our usual Midweek Choral Evensong reverts to Said Evening Prayer and takes place in the Holy Trinity Chapel.\nTo Download the pew sheet or the choirs music list\, please visit our “Latest News” page Latest news – All Saints Church
URL:https://allsaintskingston.co.uk/event/wed-choral-evensong-8
LOCATION:All Saints Church\, Kingston
CATEGORIES:SERVICE
END:VEVENT
BEGIN:VEVENT
DTSTART;TZID=Europe/London:20260507T120000
DTEND;TZID=Europe/London:20260507T123000
DTSTAMP:20260423T153120
CREATED:20250507T220303Z
LAST-MODIFIED:20260416T203016Z
UID:10001817-1778155200-1778157000@allsaintskingston.co.uk
SUMMARY:Thur Holy Communion
DESCRIPTION:SERVICE\nAll are welcome join us for this short and intimate weekly service of Holy Communion
URL:https://allsaintskingston.co.uk/event/thur-holy-communion-11
LOCATION:All Saints Church\, Kingston
CATEGORIES:SERVICE
END:VEVENT
BEGIN:VEVENT
DTSTART;TZID=Europe/London:20260510T080000
DTEND;TZID=Europe/London:20260510T083000
DTSTAMP:20260423T153120
CREATED:20250510T184742Z
LAST-MODIFIED:20260416T203017Z
UID:10001827-1778400000-1778401800@allsaintskingston.co.uk
SUMMARY:Holy Communion
DESCRIPTION:SERVICE\nHoly Communion Said service in the Holy Trinity Chapel according to the Book of Common Prayer
URL:https://allsaintskingston.co.uk/event/holy-communion-300
LOCATION:Nave
CATEGORIES:SERVICE
END:VEVENT
BEGIN:VEVENT
DTSTART;TZID=Europe/London:20260510T093000
DTEND;TZID=Europe/London:20260510T103000
DTSTAMP:20260423T153120
CREATED:20250510T184742Z
LAST-MODIFIED:20260416T203017Z
UID:10001828-1778405400-1778409000@allsaintskingston.co.uk
SUMMARY:All Age Communion
DESCRIPTION:SERVICE\nOnce a month\, during term time\, we hold an All Age Service which is designed to be particularly inclusive to our younger members and also features our junior choir.  On these days\, we have an additional choral matins service at 11am\, please see our website calendar for dates.\nTo Download the Pew sheet or the choir music list\, please visit the latest news area of our website by clicking this link Latest news – All Saints Church\nWatch on You Tube All Saints Kingston : Services – YouTube
URL:https://allsaintskingston.co.uk/event/choral-eucharist-145
LOCATION:Church
CATEGORIES:SERVICE
END:VEVENT
BEGIN:VEVENT
DTSTART;TZID=Europe/London:20260510T110000
DTEND;TZID=Europe/London:20260510T120000
DTSTAMP:20260423T153120
CREATED:20251215T210509Z
LAST-MODIFIED:20260416T203017Z
UID:10003102-1778410800-1778414400@allsaintskingston.co.uk
SUMMARY:Choral Matins
DESCRIPTION:Join us for a service of Choral Matins\, a once a month service led by our main choir at 11am.\nChoral Matins are held on the same day as the monthly 9.30am All Age Communion Service which is led by our junior choir.\nEnjoy a wonderful service led by one of the best parish choirs in London performing Cathedral quality music.\nDownload the pew sheet and music list from our website http://www.allsaintskingston.co.uk/latestnews\nWatch on You Tube All Saints Kingston : Services – YouTube
URL:https://allsaintskingston.co.uk/event/choral-matins-12
LOCATION:The Nave
CATEGORIES:SERVICE
END:VEVENT
BEGIN:VEVENT
DTSTART;TZID=Europe/London:20260510T180000
DTEND;TZID=Europe/London:20260510T190000
DTSTAMP:20260423T153120
CREATED:20250510T184743Z
LAST-MODIFIED:20260416T203018Z
UID:10001829-1778436000-1778439600@allsaintskingston.co.uk
SUMMARY:Choral Evensong
DESCRIPTION:SERVICE\nJoin us for our Choral Evensong service featuring the Choir of All Saints Kingston\, one of the best parish choirs in London performing Cathedral quality music.  Sundays 6.00-7pm\nWatch on You Tube All Saints Kingston : Services – YouTube
URL:https://allsaintskingston.co.uk/event/choral-evensong-92
LOCATION:Church
CATEGORIES:SERVICE
END:VEVENT
BEGIN:VEVENT
DTSTART;TZID=Europe/London:20260512T120000
DTEND;TZID=Europe/London:20260512T123000
DTSTAMP:20260423T153120
CREATED:20250619T082711Z
LAST-MODIFIED:20260120T132627Z
UID:10002478-1778587200-1778589000@allsaintskingston.co.uk
SUMMARY:Tue Holy Communion
DESCRIPTION:SERVICE\nJoin us for this intimate weekly midday service of Holy Communion
URL:https://allsaintskingston.co.uk/event/tue-holy-communion-24/2026-05-12
CATEGORIES:SERVICE
END:VEVENT
BEGIN:VEVENT
DTSTART;TZID=Europe/London:20260513T120000
DTEND;TZID=Europe/London:20260513T123000
DTSTAMP:20260423T153120
CREATED:20250513T203325Z
LAST-MODIFIED:20260416T203018Z
UID:10001831-1778673600-1778675400@allsaintskingston.co.uk
SUMMARY:Wed Holy Communion
DESCRIPTION:SERVICE\nJoin us for this intimate weekly service of Holy Communion
URL:https://allsaintskingston.co.uk/event/wed-holy-communion-12
LOCATION:All Saints Church\, Kingston
CATEGORIES:SERVICE
END:VEVENT
BEGIN:VEVENT
DTSTART;TZID=Europe/London:20260513T173000
DTEND;TZID=Europe/London:20260513T181500
DTSTAMP:20260423T153120
CREATED:20250513T203325Z
LAST-MODIFIED:20260416T203018Z
UID:10001832-1778693400-1778696100@allsaintskingston.co.uk
SUMMARY:Wed Said Evening Prayer
DESCRIPTION:Our Usual Midweek Choral Evensong is reverting to Said Evening Prayer today and takes place in the Holy Trinity Chapel.\nThis is due to tomorrow’s Ascension Day Service which is a full Choral Evensong at 7.30pm\nTo Download the pew sheet or the choirs music list\, please visit our “Latest News” page Latest news – All Saints Church
URL:https://allsaintskingston.co.uk/event/wed-choral-evensong-9
LOCATION:All Saints Church\, Kingston
CATEGORIES:SERVICE
END:VEVENT
BEGIN:VEVENT
DTSTART;TZID=Europe/London:20260514T120000
DTEND;TZID=Europe/London:20260514T123000
DTSTAMP:20260423T153120
CREATED:20250514T210316Z
LAST-MODIFIED:20260416T203019Z
UID:10001839-1778760000-1778761800@allsaintskingston.co.uk
SUMMARY:Thur Holy Communion
DESCRIPTION:SERVICE\nAll are welcome join us for this short and intimate weekly service of Holy Communion
URL:https://allsaintskingston.co.uk/event/thur-holy-communion-12
LOCATION:All Saints Church\, Kingston
CATEGORIES:SERVICE
END:VEVENT
BEGIN:VEVENT
DTSTART;TZID=Europe/London:20260517T080000
DTEND;TZID=Europe/London:20260517T083000
DTSTAMP:20260423T153120
CREATED:20250517T224822Z
LAST-MODIFIED:20260416T203019Z
UID:10001840-1779004800-1779006600@allsaintskingston.co.uk
SUMMARY:Holy Communion
DESCRIPTION:SERVICE\nHoly Communion Said service in the Holy Trinity Chapel according to the Book of Common Prayer
URL:https://allsaintskingston.co.uk/event/holy-communion-301
LOCATION:Nave
CATEGORIES:SERVICE
END:VEVENT
BEGIN:VEVENT
DTSTART;TZID=Europe/London:20260517T093000
DTEND;TZID=Europe/London:20260517T103000
DTSTAMP:20260423T153120
CREATED:20250517T224836Z
LAST-MODIFIED:20260416T203019Z
UID:10001841-1779010200-1779013800@allsaintskingston.co.uk
SUMMARY:Choral Eucharist
DESCRIPTION:SERVICE\nJoin us for our Choral Eucharist service\, sometimes also known as Holy Communion\, Mass or The Lord’s Supper.\nThe service contains Bible readings and prayers and the sharing of consecrated bread and wine\, featuring the Choir of All Saints Kingston\, one of the best parish choirs in London performing Cathedral quality music.\nWe hold regular Choral Eucharist services on Sundays at 9.30am and 6pm and on Wednesdays at 5.30pm (during school holidays\, the Wednesday service reverts to a Said Evening Prayer).\nOnce a month\, during term time\, we hold an All Age Service which is designed to be particularly inclusive to our younger members which features our Junior Choir.  On these days\, we have an additional choral matins service at 11am\, please see our website calendar for dates.\nTo download the Pew sheet or the choir music list\, please visit the latest news area of our website by clicking this link Latest news – All Saints Church\nWatch on You Tube All Saints Kingston : Services – YouTube
URL:https://allsaintskingston.co.uk/event/choral-eucharist-146
LOCATION:Church
CATEGORIES:SERVICE
END:VEVENT
BEGIN:VEVENT
DTSTART;TZID=Europe/London:20260517T180000
DTEND;TZID=Europe/London:20260517T190000
DTSTAMP:20260423T153120
CREATED:20250517T224836Z
LAST-MODIFIED:20260416T203020Z
UID:10001842-1779040800-1779044400@allsaintskingston.co.uk
SUMMARY:Farewell Service to Bishop Christopher for the Kingston Episcopal Area
DESCRIPTION:Farewell Service to Bishop Christopher for the Kingston Episcopal Area.\nJoin us for this very special service\, featuring one of the best parish choirs in London performing Cathedral quality music.\nWatch on You Tube All Saints Kingston : Services – YouTube
URL:https://allsaintskingston.co.uk/event/choral-evensong-93
LOCATION:Church
CATEGORIES:SERVICE
END:VEVENT
BEGIN:VEVENT
DTSTART;TZID=Europe/London:20260519T120000
DTEND;TZID=Europe/London:20260519T123000
DTSTAMP:20260423T153120
CREATED:20250619T082711Z
LAST-MODIFIED:20260120T132627Z
UID:10002479-1779192000-1779193800@allsaintskingston.co.uk
SUMMARY:Tue Holy Communion
DESCRIPTION:SERVICE\nJoin us for this intimate weekly midday service of Holy Communion
URL:https://allsaintskingston.co.uk/event/tue-holy-communion-24/2026-05-19
CATEGORIES:SERVICE
END:VEVENT
BEGIN:VEVENT
DTSTART;TZID=Europe/London:20260520T120000
DTEND;TZID=Europe/London:20260520T123000
DTSTAMP:20260423T153120
CREATED:20250520T184705Z
LAST-MODIFIED:20260416T203020Z
UID:10001844-1779278400-1779280200@allsaintskingston.co.uk
SUMMARY:Wed Holy Communion
DESCRIPTION:SERVICE\nJoin us for this intimate weekly service of Holy Communion
URL:https://allsaintskingston.co.uk/event/wed-holy-communion-13
LOCATION:All Saints Church\, Kingston
CATEGORIES:SERVICE
END:VEVENT
BEGIN:VEVENT
DTSTART;TZID=Europe/London:20260520T173000
DTEND;TZID=Europe/London:20260520T181500
DTSTAMP:20260423T153120
CREATED:20250520T184705Z
LAST-MODIFIED:20260416T203020Z
UID:10001845-1779298200-1779300900@allsaintskingston.co.uk
SUMMARY:Wed Choral Evensong
DESCRIPTION:SERVICE\nOur Choral Evensong service* features one of the best parish choirs in London performing Cathedral quality music.  Term time\, Wednesdays 5.30-6.15pm\n** *During school holidays\, our usual Midweek Choral Evensong reverts to Said Evening Prayer and takes place in the Holy Trinity Chapel.\nTo Download the pew sheet or the choirs music list\, please visit our “Latest News” page Latest news – All Saints Church
URL:https://allsaintskingston.co.uk/event/wed-choral-evensong-10
LOCATION:All Saints Church\, Kingston
CATEGORIES:SERVICE
END:VEVENT
BEGIN:VEVENT
DTSTART;TZID=Europe/London:20260521T120000
DTEND;TZID=Europe/London:20260521T123000
DTSTAMP:20260423T153120
CREATED:20250521T202725Z
LAST-MODIFIED:20260416T203021Z
UID:10001846-1779364800-1779366600@allsaintskingston.co.uk
SUMMARY:Thur Holy Communion
DESCRIPTION:SERVICE\nAll are welcome join us for this short and intimate weekly service of Holy Communion
URL:https://allsaintskingston.co.uk/event/thur-holy-communion-13
LOCATION:All Saints Church\, Kingston
CATEGORIES:SERVICE
END:VEVENT
BEGIN:VEVENT
DTSTART;TZID=Europe/London:20260524T080000
DTEND;TZID=Europe/London:20260524T083000
DTSTAMP:20260423T153120
CREATED:20250523T235738Z
LAST-MODIFIED:20260416T203021Z
UID:10001847-1779609600-1779611400@allsaintskingston.co.uk
SUMMARY:Holy Communion
DESCRIPTION:SERVICE\nHoly Communion Said service in the Holy Trinity Chapel according to the Book of Common Prayer
URL:https://allsaintskingston.co.uk/event/holy-communion-302
LOCATION:Nave
CATEGORIES:SERVICE
END:VEVENT
END:VCALENDAR